BEGIN:VCALENDAR
PRODID:-//Microsoft Corporation//Outlook 11.0 MIMEDIR//EN
VERSION:2.0
METHOD:PUBLISH
BEGIN:VEVENT
DTSTART:20260503T203000
LOCATION:Qtopia, im «Central» Brauereistrasse 2, 8610 Uster
TRANSP:OPAQUE
RRULE:FREQ=WEEKLY;INTERVAL=1;UNTIL=20260504;WKST=MO;BYDAY=MO,SU
UID:35090908-2a51-4425-aa3d-8100c7684140-0
DTSTAMP:20260503T203000
DESCRIPTION:Elvis singt und erzählt seine Geschichte wie nie zuvor in einem neuen Kinoerlebnis des visionären Filmemachers Baz Luhrmann.\n\nTITEL\nEpic: Elvis Presley in Concert\n\nKontakt\nqtopia kino+bar\nim «Central»\nBrauereistrasse 2\n8610 Uster\n\nVerfügbarkeit / Datum, Zeit\n3.5.2026 - 4.5.2026 20:30 -  Mo, So\n3.5.2026 18:00 - \n\nVorverkauf\nwww.qtopia.ch\n\n\nDas Angebot im Detail: https://www.guidle.com/angebote/1248949418/epic_elvis_presley_in_concert/uster\nQuelle: https%3A%2F%2Fwww.uster-agenda.ch
SUMMARY:Epic: Elvis Presley in Concert
PRIORITY:5
X-MICROSOFT-CDO-IMPORTANCE:1
CLASS:PUBLIC
BEGIN:VALARM
TRIGGER:-P1D
ACTION:DISPLAY
DESCRIPTION:Reminder
END:VALARM
END:VEVENT
BEGIN:VEVENT
DTSTART:20260503T203000
LOCATION:Qtopia, im «Central» Brauereistrasse 2, 8610 Uster
TRANSP:OPAQUE
RRULE:FREQ=WEEKLY;INTERVAL=1;UNTIL=20260504;WKST=MO;BYDAY=MO,SU
UID:35090908-2a51-4425-aa3d-8100c7684140-1
DTSTAMP:20260503T203000
DESCRIPTION:Elvis singt und erzählt seine Geschichte wie nie zuvor in einem neuen Kinoerlebnis des visionären Filmemachers Baz Luhrmann.\n\nTITEL\nEpic: Elvis Presley in Concert\n\nKontakt\nqtopia kino+bar\nim «Central»\nBrauereistrasse 2\n8610 Uster\n\nVerfügbarkeit / Datum, Zeit\n3.5.2026 - 4.5.2026 20:30 -  Mo, So\n3.5.2026 18:00 - \n\nVorverkauf\nwww.qtopia.ch\n\n\nDas Angebot im Detail: https://www.guidle.com/angebote/1248949418/epic_elvis_presley_in_concert/uster\nQuelle: https%3A%2F%2Fwww.uster-agenda.ch
SUMMARY:Epic: Elvis Presley in Concert
PRIORITY:5
X-MICROSOFT-CDO-IMPORTANCE:1
CLASS:PUBLIC
BEGIN:VALARM
TRIGGER:-P1D
ACTION:DISPLAY
DESCRIPTION:Reminder
END:VALARM
END:VEVENT
END:VCALENDAR